BEGIN:VCALENDAR
VERSION:2.0
PRODID:-//ExpressionEngine Easy iCalendar plugin//NONSGML v2.0.1//EN
X-WR-TIMEZONE:America/New_York
X-WR-CALNAME:Upcoming Auctions
BEGIN:VEVENT
UID:160989
DTSTAMP:20260423T065000
DTSTART:20260423T065000
DTEND:20260502T110000
SUMMARY:Gilbertsville Public Auto Auction - Cars\, Trucks Golf Carts 
 & Scooters May 2nd
LOCATION:1100 E Philadelphia Ave \, Gilbertsville\, PA 19525\, US
DESCRIPTION:Preview and Inspections: Friday May 1st 11am-4pm and Saturd
 ay May 2nd 8am-11am LIVE Auction with simulcast online bid
 ding begins at 11:00am Pickup and Transfer - Saturday May 2n
 d 11am-5pm\, Monday May 4th 11am-3pm and Tuesday May 5th 11am
 -3pm
URL:https://www.geyerauctions.com/auctions/detail/bw160989
SEQUENCE:1
END:VEVENT
END:VCALENDAR