BEGIN:VCALENDAR
VERSION:2.0
PRODID:-//ExpressionEngine Easy iCalendar plugin//NONSGML v2.0.1//EN
X-WR-TIMEZONE:America/New_York
X-WR-CALNAME:Upcoming Auctions
BEGIN:VEVENT
UID:160719
DTSTAMP:20260424T110000
DTSTART:20260424T110000
DTEND:20260516T170000
SUMMARY:ATV\, Trucks\, Tractors\, Ammunition & Firearms Online Aucti
 on - Coudersport\, PA
LOCATION:373 Haskell Rd\, Coudersport\, PA 16915\, US
DESCRIPTION:Preview & Inspection: Saturday\, May 16th 10:00am to 2:00pm L
 ocation: 373 Haskell Rd Coudersport\, PA 16915 Online bidding
  closing on Saturday\, May 16th at 5:00pm  Pickup & Removal:
  Sunday\, May 17th 9:00am to 4:00pm 
URL:https://www.geyerauctions.com/auctions/detail/bw160719
SEQUENCE:1
END:VEVENT
END:VCALENDAR