BEGIN:VCALENDAR
VERSION:2.0
PRODID:-//ExpressionEngine Easy iCalendar plugin//NONSGML v2.0.1//EN
X-WR-TIMEZONE:America/New_York
X-WR-CALNAME:Upcoming Auctions
BEGIN:VEVENT
UID:160398
DTSTAMP:20260424T120000
DTSTART:20260424T120000
DTEND:20260515T180000
SUMMARY:New\, Used & Returned Tools and Hardware - Boyertown\, PA
LOCATION:296 South Reading Ave\, Boyertown\, PA 19512\, US
DESCRIPTION:Preview & Inspection: Friday\, May 15th 11:00am to 1:00pm  L
 ocation: 296 South Reading Ave Boyertown\, PA 19512 Online Bi
 dding Closing on Friday\, May 15th at 6:00pm  Pickup & Remov
 al: Saturday\, May 16th from 9:00am to 1:00pm 
URL:https://www.geyerauctions.com/auctions/detail/bw160398
SEQUENCE:1
END:VEVENT
END:VCALENDAR