BEGIN:VCALENDAR
VERSION:2.0
PRODID:-//ExpressionEngine Easy iCalendar plugin//NONSGML v2.0.1//EN
X-WR-TIMEZONE:America/New_York
X-WR-CALNAME:Upcoming Auctions
BEGIN:VEVENT
UID:160235
DTSTAMP:20260526T190000
DTSTART:20260526T190000
DTEND:20260526T200000
SUMMARY:1701 Bahr Rd LIVE Real Estate Auction - Pottstown\, PA
LOCATION:1701 Bahr Rd\, Pottstown\, PA 19464\, US
DESCRIPTION:Open Houses: Sunday\, May 17th from 3:00pm to 5:00pm and Tues
 day\, May 19th from 3:00pm to 5:00pm  Location: 1701 Bahr Rd
  Pottstown\, PA 19464 The Live Real Estate Auction will be of
 fered on Tuesday\, May 26th at 7:00pm
URL:https://www.geyerauctions.com/auctions/detail/bw160235
SEQUENCE:1
END:VEVENT
END:VCALENDAR