BEGIN:VCALENDAR
VERSION:2.0
PRODID:-//ExpressionEngine Easy iCalendar plugin//NONSGML v2.0.1//EN
X-WR-TIMEZONE:America/New_York
X-WR-CALNAME:Upcoming Auctions
BEGIN:VEVENT
UID:159989
DTSTAMP:20260528T190000
DTSTART:20260528T190000
DTEND:20260528T200000
SUMMARY:1414 Sunset Dr LIVE Real Estate Auction - Pottstown\, PA
LOCATION:1414 Sunset Dr\, Pottstown\, PA 19464\, US
DESCRIPTION:Open Houses: Sunday\, May 17th from 12:00pm to 2:00pm and Th
 ursday\, May 21st from 3:00pm to 5:00pm Location: 1414 Sunset
  Dr Pottstown\, PA 19464 LIVE Real Estate Auction will be hel
 d on Thursday\, May 28th at 7:00pm 
URL:https://www.geyerauctions.com/auctions/detail/bw159989
SEQUENCE:1
END:VEVENT
END:VCALENDAR