BEGIN:VCALENDAR
VERSION:2.0
PRODID:-//ExpressionEngine Easy iCalendar plugin//NONSGML v2.0.1//EN
X-WR-TIMEZONE:America/New_York
X-WR-CALNAME:Upcoming Auctions
BEGIN:VEVENT
UID:158131
DTSTAMP:20260424T100000
DTSTART:20260424T100000
DTEND:20260517T150000
SUMMARY:Private Collector Sports Memorabilia Collection - Boyertown\,
  PA 
LOCATION:747 Swinehart Road\, Boyertown\, PA 19512\, US
DESCRIPTION:Preview & Inspection: Saturday\, May 16th from 10:00am to 1:0
 0pm Location: 745 Swinehart Rd Boyertown\, PA 19512 Online bi
 dding closes on Sunday\, May 17th at 3:00pm  Pickup & Remova
 l: Monday\, May 18th from 4:00pm to 7:00pm and Tuesday\, May 1
 9th from 10:00am to 2:00pm 
URL:https://www.geyerauctions.com/auctions/detail/bw158131
SEQUENCE:1
END:VEVENT
END:VCALENDAR