BEGIN:VCALENDAR
VERSION:2.0
PRODID:-//ExpressionEngine Easy iCalendar plugin//NONSGML v2.0.1//EN
X-WR-TIMEZONE:America/New_York
X-WR-CALNAME:Upcoming Auctions
BEGIN:VEVENT
UID:154981
DTSTAMP:20260421T120000
DTSTART:20260421T120000
DTEND:20260512T180000
SUMMARY:Spring Truck Trailer & Equipment Online Auction – Bechtels
 ville\, PA
LOCATION:724 PA-100\, Bechtelsville\, PA 19505\, US
DESCRIPTION:Preview and Inspections:  Friday May 8th and Tuesday May 1
 2th 12pm-4pm Location: 724 Route 100 Bechtelsville\, PA 1950
 5 Online bidding closes Tuesday May 12th at 6:00pm Pickup an
 d Removal: Wednesday May 13th and Thursday May 14th 10am-5pm
URL:https://www.geyerauctions.com/auctions/detail/bw154981
SEQUENCE:1
END:VEVENT
END:VCALENDAR