BEGIN:VCALENDAR
VERSION:2.0
PRODID:-//ExpressionEngine Easy iCalendar plugin//NONSGML v2.0.1//EN
X-WR-TIMEZONE:America/New_York
X-WR-CALNAME:Upcoming Auctions
BEGIN:VEVENT
UID:148316
DTSTAMP:20251101T110000
DTSTART:20251101T110000
DTEND:20251101T120000
SUMMARY:119 N Limerick Rd Live Real Estate Auction - Royersford\, PA
LOCATION:119 N Limerick Rd \, Royersford\, PA 19468\, US
DESCRIPTION:SOLD! $203\,500
URL:https://www.geyerauctions.com/auctions/detail/bw148316
SEQUENCE:1
END:VEVENT
END:VCALENDAR