BEGIN:VCALENDAR
VERSION:2.0
PRODID:-//ExpressionEngine Easy iCalendar plugin//NONSGML v2.0.1//EN
X-WR-TIMEZONE:America/New_York
X-WR-CALNAME:Upcoming Auctions
BEGIN:VEVENT
UID:148313
DTSTAMP:20251028T180000
DTSTART:20251028T180000
DTEND:20251028T190000
SUMMARY:ABSOLUTE Live Real Estate Auction 2-Bedrooms 1-Bath - Colleg
 eville\, PA
LOCATION:828 Locust St\, Collegeville\, PA 19426\, US
DESCRIPTION:SOLD! - $374\,000
URL:https://www.geyerauctions.com/auctions/detail/bw148313
SEQUENCE:1
END:VEVENT
END:VCALENDAR