BEGIN:VCALENDAR
VERSION:2.0
PRODID:-//ExpressionEngine Easy iCalendar plugin//NONSGML v2.0.1//EN
X-WR-TIMEZONE:America/New_York
X-WR-CALNAME:Upcoming Auctions
BEGIN:VEVENT
UID:123871
DTSTAMP:20241017T102800
DTSTART:20241017T102800
DTEND:20241110T150000
SUMMARY:Electric Motors\, New and Used Tools Online Auction - Bechtel
 sville\, PA
LOCATION:835 Route 100 N\, Bechtelsville\, PA 19525\, US
DESCRIPTION:Preview & Inspection: Sunday\, November 10th from 10:00am - 2
 :00pm Location: 835 Route 100 N Bechtelsville\, PA 19505 
URL:https://www.geyerauctions.com/auctions/detail/bw123871
SEQUENCE:1
END:VEVENT
END:VCALENDAR